BEGIN:VCALENDAR
VERSION:2.0
PRODID:eventora.com
BEGIN:VEVENT
UID:e596be38-87b9-44e3-90f9-df5a83c2a16a
DTSTAMP:20260423T111605Z
STATUS:CONFIRMED
DTSTART;TZID=W. Europe Standard Time:20261015T160000Z
DTEND;TZID=W. Europe Standard Time:20261024T210000Z
SUMMARY:Oktoberfest Thun | 2026
LOCATION:Parkplatz P8 - vis a vis KVA Thun - Allmendstrasse 97 - 3600 Thun - B
DESCRIPTION: 
BEGIN:VALARM
DESCRIPTION:Oktoberfest Thun | 2026
TRIGGER:-PT15M
ACTION:DISPLAY
END:VALARM
TRANSP:OPAQUE
END:VEVENT
END:VCALENDAR
