BEGIN:VCALENDAR
VERSION:2.0
PRODID:eventora.com
BEGIN:VEVENT
UID:2f77c4f3-705c-48f9-a62f-d93d73223895
DTSTAMP:20260421T203422Z
STATUS:CONFIRMED
DTSTART;TZID=GTB Standard Time:20211019T130000Z
DTEND;TZID=GTB Standard Time:20211020T150000Z
SUMMARY:1st Athens ESG & Climate Crisis Summit
LOCATION:Κέντρο Πολιτισμού Ίδρυμα Σταύρος Νιάρχος  - Λεωφ. Ανδρέα Συγγρού 3
DESCRIPTION: 
BEGIN:VALARM
DESCRIPTION:1st Athens ESG & Climate Crisis Summit
TRIGGER:-PT15M
ACTION:DISPLAY
END:VALARM
TRANSP:OPAQUE
END:VEVENT
END:VCALENDAR
