BEGIN:VCALENDAR
VERSION:2.0
PRODID:eventora.com
BEGIN:VEVENT
UID:2fab5523-8e63-493a-9396-85990ed013c2
DTSTAMP:20260425T182211Z
STATUS:CONFIRMED
DTSTART;TZID=GTB Standard Time:20150316T160000Z
DTEND;TZID=GTB Standard Time:20150715T180000Z
SUMMARY:eCommerce-Practitioner
LOCATION:Κέντρο Βιώσιµης Επιχειρηµατικότητας Εξέλιξη - Ελευθερίου Βενιζέλου
DESCRIPTION: 
BEGIN:VALARM
DESCRIPTION:eCommerce-Practitioner
TRIGGER:-PT15M
ACTION:DISPLAY
END:VALARM
TRANSP:OPAQUE
END:VEVENT
END:VCALENDAR
