BEGIN:VCALENDAR
VERSION:2.0
PRODID:eventora.com
BEGIN:VEVENT
UID:2ac44857-d3e0-4ef4-8b1e-6916ecbbf13f
DTSTAMP:20260425T194620Z
STATUS:CONFIRMED
DTSTART;TZID=GTB Standard Time:20250305T163000Z
DTEND;TZID=GTB Standard Time:20250305T203000Z
SUMMARY:3D Athens Meetup 2025
LOCATION:The Hub Events - Αλκμήνης 5 - 118 54 Αθήνα -  - 
DESCRIPTION: 
BEGIN:VALARM
DESCRIPTION:3D Athens Meetup 2025
TRIGGER:-PT15M
ACTION:DISPLAY
END:VALARM
TRANSP:OPAQUE
END:VEVENT
END:VCALENDAR
