BEGIN:VCALENDAR
VERSION:2.0
PRODID:eventora.com
BEGIN:VEVENT
UID:3ced1306-5d4e-4698-82fb-559407e2368f
DTSTAMP:20260425T164117Z
STATUS:CONFIRMED
DTSTART;TZID=GTB Standard Time:20240207T163000Z
DTEND;TZID=GTB Standard Time:20240207T203000Z
SUMMARY:3D Athens Meetup 2024
LOCATION:Metaphor Athens - Dorileou 10 - 115 21 Athina - Kentrikos Tomeas Ath
DESCRIPTION: 
BEGIN:VALARM
DESCRIPTION:3D Athens Meetup 2024
TRIGGER:-PT15M
ACTION:DISPLAY
END:VALARM
TRANSP:OPAQUE
END:VEVENT
END:VCALENDAR
