BEGIN:VCALENDAR
VERSION:2.0
PRODID:eventora.com
BEGIN:VEVENT
UID:1bbf84a5-65d0-40cd-8031-60a22223a441
DTSTAMP:20260423T160137Z
STATUS:CONFIRMED
DTSTART;TZID=GTB Standard Time:20260307T080000Z
DTEND;TZID=GTB Standard Time:20260309T160000Z
SUMMARY:3ο Επιστημονικό Συνέδριο Αισθητικής Κοσμητολογίας
LOCATION:September Hotel Thessaloniki - Asklipiou 99 - 555 35 Θεσσαλονίκη  - 
DESCRIPTION: 
BEGIN:VALARM
DESCRIPTION:3ο Επιστημονικό Συνέδριο Αισθητικής Κοσμητολογίας
TRIGGER:-PT15M
ACTION:DISPLAY
END:VALARM
TRANSP:OPAQUE
END:VEVENT
END:VCALENDAR
