BEGIN:VCALENDAR
VERSION:2.0
PRODID:eventora.com
BEGIN:VEVENT
UID:385e640e-85b2-4346-b7a4-c77eeceb800a
DTSTAMP:20260420T162635Z
STATUS:CONFIRMED
DTSTART;TZID=GTB Standard Time:20190412T060000Z
DTEND;TZID=GTB Standard Time:20190414T180000Z
SUMMARY:3ο Συμπόσιο Φαρμακοεπιδημιολογίας
LOCATION:Astir Egnatia Alexandroupolis - Πάρκο Εγνατίας - 681 00 Αλεξανδρούπ
DESCRIPTION: 
BEGIN:VALARM
DESCRIPTION:3ο Συμπόσιο Φαρμακοεπιδημιολογίας
TRIGGER:-PT15M
ACTION:DISPLAY
END:VALARM
TRANSP:OPAQUE
END:VEVENT
END:VCALENDAR
