BEGIN:VCALENDAR
VERSION:2.0
PRODID:eventora.com
BEGIN:VEVENT
UID:eacee5f3-d6eb-4d2d-977b-c7f1d43c63ea
DTSTAMP:20260423T071513Z
STATUS:CONFIRMED
DTSTART;TZID=GTB Standard Time:20230901T150000Z
DTEND;TZID=GTB Standard Time:20230901T163000Z
SUMMARY:Θησαυροί του Ευβοϊκού: Από τη Θάλασσα στο Πιάτο
LOCATION:Anemoia Evia -   - 340 05 Ροβιές - Εύβοια - Ελλάδα
DESCRIPTION: 
BEGIN:VALARM
DESCRIPTION:Θησαυροί του Ευβοϊκού: Από τη Θάλασσα στο Πιάτο
TRIGGER:-PT15M
ACTION:DISPLAY
END:VALARM
TRANSP:OPAQUE
END:VEVENT
END:VCALENDAR
