BEGIN:VCALENDAR
VERSION:2.0
PRODID:eventora.com
BEGIN:VEVENT
UID:cd8cff7a-5c47-4633-9d62-e6accc91bf5e
DTSTAMP:20260423T212410Z
STATUS:CONFIRMED
DTSTART;TZID=GTB Standard Time:20191105T080000Z
DTEND;TZID=GTB Standard Time:20191106T140000Z
SUMMARY:ASADO Techniques - Αθήνα
LOCATION:Μαθήματα Μαγειρικής - Λεωφόρος Βουλιαγμένης 299 - 173 43 Άγιος Δημή
DESCRIPTION: 
BEGIN:VALARM
DESCRIPTION:ASADO Techniques - Αθήνα
TRIGGER:-PT15M
ACTION:DISPLAY
END:VALARM
TRANSP:OPAQUE
END:VEVENT
END:VCALENDAR
