BEGIN:VCALENDAR
VERSION:2.0
PRODID:eventora.com
BEGIN:VEVENT
UID:c10c1da7-0df5-4dad-b03b-d5220079a8a6
DTSTAMP:20260422T131935Z
STATUS:CONFIRMED
DTSTART;TZID=GTB Standard Time:20200212T080000Z
DTEND;TZID=GTB Standard Time:20200213T140000Z
SUMMARY:ASADO Techniques - Ρόδος
LOCATION:Caterplus - Βρυσιά - Κοσκινού - Ρόδος -   - 851 00 Ρόδος - Ρόδος - Ελ
DESCRIPTION: 
BEGIN:VALARM
DESCRIPTION:ASADO Techniques - Ρόδος
TRIGGER:-PT15M
ACTION:DISPLAY
END:VALARM
TRANSP:OPAQUE
END:VEVENT
END:VCALENDAR
