BEGIN:VCALENDAR
VERSION:2.0
PRODID:eventora.com
BEGIN:VEVENT
UID:ac7ff511-6f18-4fe9-8a19-385910246ba0
DTSTAMP:20260421T092903Z
STATUS:CONFIRMED
DTSTART;TZID=GTB Standard Time:20190305T100000Z
DTEND;TZID=GTB Standard Time:20190306T160000Z
SUMMARY:Amazing Tarts - Αθήνα
LOCATION:LE MONDE Institute of Hotel & Tourism Studies - Θεσσαλονίκης 45 - 1
DESCRIPTION: 
BEGIN:VALARM
DESCRIPTION:Amazing Tarts - Αθήνα
TRIGGER:-PT15M
ACTION:DISPLAY
END:VALARM
TRANSP:OPAQUE
END:VEVENT
END:VCALENDAR
