BEGIN:VCALENDAR
VERSION:2.0
PRODID:eventora.com
BEGIN:VEVENT
UID:08148425-990b-4e86-8a4c-cdc74b59078e
DTSTAMP:20260424T225716Z
STATUS:CONFIRMED
DTSTART;TZID=GTB Standard Time:20211205T100000Z
DTEND;TZID=GTB Standard Time:20211205T120000Z
SUMMARY:Αθηναϊκές διαδρομές βιβλίου.. ξανά! Οι τάφοι των Αγωνιστών του 1821 στο Α΄ Κοιμητήριο Αθηνών
LOCATION:Α΄ Κοιμητήριον Δήμου Ἀθηναίων - Λογγίνου 3 - 116 36 Αθήνα - Κεντρικό
DESCRIPTION: 
BEGIN:VALARM
DESCRIPTION:Αθηναϊκές διαδρομές βιβλίου.. ξανά! Οι τάφοι των Αγωνιστών του 1821 στο Α΄ Κοιμητήριο Αθηνών
TRIGGER:-PT15M
ACTION:DISPLAY
END:VALARM
TRANSP:OPAQUE
END:VEVENT
END:VCALENDAR
