BEGIN:VCALENDAR
VERSION:2.0
PRODID:eventora.com
BEGIN:VEVENT
UID:6a9eb1c3-fca7-4ba8-9890-0b72077c499b
DTSTAMP:20260424T221436Z
STATUS:CONFIRMED
DTSTART;TZID=GTB Standard Time:20241012T170000Z
DTEND;TZID=GTB Standard Time:20241012T190000Z
SUMMARY:COLLEGIUM MUSICUM ΑΘΗΝΩΝ
LOCATION:Αίθουσα "Άρης Γαρουφαλής" - Βασιλέως Γεωργίου B' 17-19 - 106 75 Αθή
DESCRIPTION: 
BEGIN:VALARM
DESCRIPTION:COLLEGIUM MUSICUM ΑΘΗΝΩΝ
TRIGGER:-PT15M
ACTION:DISPLAY
END:VALARM
TRANSP:OPAQUE
END:VEVENT
END:VCALENDAR
