BEGIN:VCALENDAR
VERSION:2.0
PRODID:eventora.com
BEGIN:VEVENT
UID:de100859-b175-4ec6-b65b-350542c6f4e1
DTSTAMP:20260422T181400Z
STATUS:CONFIRMED
DTSTART;TZID=GTB Standard Time:20260605T090000Z
DTEND;TZID=GTB Standard Time:20260606T150000Z
SUMMARY:ECDM Expo SEE 2026
LOCATION:Ολυμπιακό Γήπεδο Φαλήρου - “Tae Kwon Do” - Λεωφόρος Ποσειδώνος 860 -
DESCRIPTION: 
BEGIN:VALARM
DESCRIPTION:ECDM Expo SEE 2026
TRIGGER:-PT15M
ACTION:DISPLAY
END:VALARM
TRANSP:OPAQUE
END:VEVENT
END:VCALENDAR
