BEGIN:VCALENDAR
VERSION:2.0
PRODID:eventora.com
BEGIN:VEVENT
UID:b6d7f937-8cc9-40c4-bdfd-314eeb26dd7e
DTSTAMP:20260425T183228Z
STATUS:CONFIRMED
DTSTART;TZID=GTB Standard Time:20250529T080000Z
DTEND;TZID=GTB Standard Time:20250531T160000Z
SUMMARY:ECDM & RetailTech Expo SEE 2025
LOCATION:Ζάππειο - Βασιλίσσης Όλγας 1 - 10557 Αθήνα -  - 
DESCRIPTION: 
BEGIN:VALARM
DESCRIPTION:ECDM & RetailTech Expo SEE 2025
TRIGGER:-PT15M
ACTION:DISPLAY
END:VALARM
TRANSP:OPAQUE
END:VEVENT
END:VCALENDAR
