BEGIN:VCALENDAR
VERSION:2.0
PRODID:eventora.com
BEGIN:VEVENT
UID:6e837bb2-c18f-4e14-9aed-960f1f2b8bf5
DTSTAMP:20260423T160246Z
STATUS:CONFIRMED
DTSTART;TZID=GTB Standard Time:20260516T060000Z
DTEND;TZID=GTB Standard Time:20260516T110000Z
SUMMARY:WEBINAR | ΜΥΟΣΚΕΛΕΤΙΚΟ ΣΥΣΤΗΜΑ: ΔΟΜΗ ΚΑΙ ΛΕΙΤΟΥΡΓΙΑ | ΣΑΒΒΑΤΟ 16 ΜΑΙΟΥ 2026
LOCATION:Online
DESCRIPTION: 
BEGIN:VALARM
DESCRIPTION:WEBINAR | ΜΥΟΣΚΕΛΕΤΙΚΟ ΣΥΣΤΗΜΑ: ΔΟΜΗ ΚΑΙ ΛΕΙΤΟΥΡΓΙΑ | ΣΑΒΒΑΤΟ 16 ΜΑΙΟΥ 2026
TRIGGER:-PT15M
ACTION:DISPLAY
END:VALARM
TRANSP:OPAQUE
END:VEVENT
END:VCALENDAR
