BEGIN:VCALENDAR
VERSION:2.0
PRODID:eventora.com
BEGIN:VEVENT
UID:0596afe6-b35b-4005-94b2-061557e62648
DTSTAMP:20260424T103631Z
STATUS:CONFIRMED
DTSTART;TZID=GTB Standard Time:20190126T080000Z
DTEND;TZID=GTB Standard Time:20190127T140000Z
SUMMARY:Front Office Essentials - Ζάκυνθος 
LOCATION:Πνευματικό Κέντρο Ζακύνθου - Βενιζέλου 4 - 291 00 Ζάκυνθος - Ζάκυνθο
DESCRIPTION: 
BEGIN:VALARM
DESCRIPTION:Front Office Essentials - Ζάκυνθος 
TRIGGER:-PT15M
ACTION:DISPLAY
END:VALARM
TRANSP:OPAQUE
END:VEVENT
END:VCALENDAR
