BEGIN:VCALENDAR
VERSION:2.0
PRODID:eventora.com
BEGIN:VEVENT
UID:67deb332-f42b-43be-9daf-b3d07250c306
DTSTAMP:20260421T093534Z
STATUS:CONFIRMED
DTSTART;TZID=GTB Standard Time:20241112T090000Z
DTEND;TZID=GTB Standard Time:20241113T150000Z
SUMMARY:ΓΛΥΚΑ ΖΑΧΑΡΟΠΛΑΣΤΕΙΩΝ ΕΚΤΟΣ ΨΥΓΕΙΟΥ, παρασκευή - διατήρηση & παρουσίαση - Θεσσαλονίκη
LOCATION:ΙΕΚ ΔΕΛΤΑ 360° Θεσσαλονίκης - Ερμού 45 - 546 24 Θεσσαλονίκη -  - Ελλά
DESCRIPTION: 
BEGIN:VALARM
DESCRIPTION:ΓΛΥΚΑ ΖΑΧΑΡΟΠΛΑΣΤΕΙΩΝ ΕΚΤΟΣ ΨΥΓΕΙΟΥ, παρασκευή - διατήρηση & παρουσίαση - Θεσσαλονίκη
TRIGGER:-PT15M
ACTION:DISPLAY
END:VALARM
TRANSP:OPAQUE
END:VEVENT
END:VCALENDAR
