BEGIN:VCALENDAR
VERSION:2.0
PRODID:eventora.com
BEGIN:VEVENT
UID:65e01cf4-abab-4609-9d83-21dab46b2bc7
DTSTAMP:20260421T075725Z
STATUS:CONFIRMED
DTSTART;TZID=GTB Standard Time:20190212T080000Z
DTEND;TZID=GTB Standard Time:20190215T140000Z
SUMMARY:Με τον Γιάννη Μπαξεβάνη στα Ανώγεια
LOCATION:Delina Mountain Resort -   - 740 51 Ανώγεια - Ρέθυμνο - Ελλάδα
DESCRIPTION: 
BEGIN:VALARM
DESCRIPTION:Με τον Γιάννη Μπαξεβάνη στα Ανώγεια
TRIGGER:-PT15M
ACTION:DISPLAY
END:VALARM
TRANSP:OPAQUE
END:VEVENT
END:VCALENDAR
