BEGIN:VCALENDAR
VERSION:2.0
PRODID:eventora.com
BEGIN:VEVENT
UID:92b70fa9-9f6b-4066-9f32-2a21706718fd
DTSTAMP:20260422T073535Z
STATUS:CONFIRMED
DTSTART;TZID=GTB Standard Time:20241214T080000Z
DTEND;TZID=GTB Standard Time:20241214T150000Z
SUMMARY:micro:bit Athens 2024 LIVE Event | Innovating classrooms with the micro:bit
LOCATION:Stelios Foundation Conference Hall - Κυδαθηναίων 22 - 105 58 Αθήνα -
DESCRIPTION: 
BEGIN:VALARM
DESCRIPTION:micro:bit Athens 2024 LIVE Event | Innovating classrooms with the micro:bit
TRIGGER:-PT15M
ACTION:DISPLAY
END:VALARM
TRANSP:OPAQUE
END:VEVENT
END:VCALENDAR
