BEGIN:VCALENDAR
VERSION:2.0
PRODID:eventora.com
BEGIN:VEVENT
UID:557ca223-9732-4c27-a3d0-cd35e16ed384
DTSTAMP:20260423T174350Z
STATUS:CONFIRMED
DTSTART;TZID=GTB Standard Time:20200128T080000Z
DTEND;TZID=GTB Standard Time:20200129T140000Z
SUMMARY:Μοντέρνες Ιδέες για Σύγχρονο Τσιπουράδικο - Πάτρα
LOCATION:ΙΕΚ ΔΕΛΤΑ 360° Πάτρας - Αγίου Ανδρέου 47 - 262 21 Πάτρα - Αχαΐα - Ελλ
DESCRIPTION: 
BEGIN:VALARM
DESCRIPTION:Μοντέρνες Ιδέες για Σύγχρονο Τσιπουράδικο - Πάτρα
TRIGGER:-PT15M
ACTION:DISPLAY
END:VALARM
TRANSP:OPAQUE
END:VEVENT
END:VCALENDAR
