BEGIN:VCALENDAR
VERSION:2.0
PRODID:eventora.com
BEGIN:VEVENT
UID:46362141-893b-4a44-9f06-ef9cd5381fcf
DTSTAMP:20260423T123150Z
STATUS:CONFIRMED
DTSTART;TZID=GTB Standard Time:20191030T080000Z
DTEND;TZID=GTB Standard Time:20191031T140000Z
SUMMARY:Μοντέρνες Ιδέες για Σύγχρονο Τσιπουράδικο - Θεσσαλονίκη
LOCATION:ΙΕΚ ΔΕΛΤΑ 360° Θεσσαλονίκης - Ερμού 45 - 546 24 Θεσσαλονίκη - Θεσσαλ
DESCRIPTION: 
BEGIN:VALARM
DESCRIPTION:Μοντέρνες Ιδέες για Σύγχρονο Τσιπουράδικο - Θεσσαλονίκη
TRIGGER:-PT15M
ACTION:DISPLAY
END:VALARM
TRANSP:OPAQUE
END:VEVENT
END:VCALENDAR
