BEGIN:VCALENDAR
VERSION:2.0
PRODID:eventora.com
BEGIN:VEVENT
UID:2b96f072-6120-4d00-933a-b11a718b672c
DTSTAMP:20260421T075414Z
STATUS:CONFIRMED
DTSTART;TZID=GTB Standard Time:20180110T080000Z
DTEND;TZID=GTB Standard Time:20180111T140000Z
SUMMARY:Νέες Συνθέσεις σε Τεχνικές Ζαχαροπλαστικής - Αθήνα
LOCATION:UNILEVER LOGISTICS Α.Ε. - Σενέκα 10 - 145 64 Κηφισιά - Βόρειος Τομέα
DESCRIPTION: 
BEGIN:VALARM
DESCRIPTION:Νέες Συνθέσεις σε Τεχνικές Ζαχαροπλαστικής - Αθήνα
TRIGGER:-PT15M
ACTION:DISPLAY
END:VALARM
TRANSP:OPAQUE
END:VEVENT
END:VCALENDAR
