BEGIN:VCALENDAR
VERSION:2.0
PRODID:eventora.com
BEGIN:VEVENT
UID:48dc00d3-0c3a-472a-bd77-7f3262b3c1e7
DTSTAMP:20260419T185413Z
STATUS:CONFIRMED
DTSTART;TZID=GTB Standard Time:20181023T070000Z
DTEND;TZID=GTB Standard Time:20181023T123000Z
SUMMARY:Rhodes Loading|Digital Marketing για τουριστικές επιχειρήσεις
LOCATION:Atrium Platinum Resort Hotel & Spa - Illiados Street  - 851 00  - Ια
DESCRIPTION: 
BEGIN:VALARM
DESCRIPTION:Rhodes Loading|Digital Marketing για τουριστικές επιχειρήσεις
TRIGGER:-PT15M
ACTION:DISPLAY
END:VALARM
TRANSP:OPAQUE
END:VEVENT
END:VCALENDAR
