BEGIN:VCALENDAR
VERSION:2.0
PRODID:eventora.com
BEGIN:VEVENT
UID:44cec1d7-f861-4452-8a34-49bcf340603d
DTSTAMP:20260425T142002Z
STATUS:CONFIRMED
DTSTART;TZID=GTB Standard Time:20180116T080000Z
DTEND;TZID=GTB Standard Time:20180117T140000Z
SUMMARY:Sushi & Asian Fusion - Ρόδος
LOCATION:Caterplus Μαρινάκης -   - 851 00 Ρόδος - Ρόδος - Ελλάδα
DESCRIPTION: 
BEGIN:VALARM
DESCRIPTION:Sushi & Asian Fusion - Ρόδος
TRIGGER:-PT15M
ACTION:DISPLAY
END:VALARM
TRANSP:OPAQUE
END:VEVENT
END:VCALENDAR
