BEGIN:VCALENDAR
VERSION:2.0
PRODID:eventora.com
BEGIN:VEVENT
UID:890e4f4b-4deb-41b9-8ac1-fb14c9ae4ee4
DTSTAMP:20260421T114142Z
STATUS:CONFIRMED
DTSTART;TZID=GTB Standard Time:20260311T133000Z
DTEND;TZID=GTB Standard Time:20260311T190000Z
SUMMARY:ACRONIS DAY ATHENS 2026 BY TIC TAC
LOCATION:Baraonda Music Hall - Αναστασίου Τσόχα 43 - 115 21 Αθήνα - Κεντρικός
DESCRIPTION: 
BEGIN:VALARM
DESCRIPTION:ACRONIS DAY ATHENS 2026 BY TIC TAC
TRIGGER:-PT15M
ACTION:DISPLAY
END:VALARM
TRANSP:OPAQUE
END:VEVENT
END:VCALENDAR
