BEGIN:VCALENDAR
VERSION:2.0
PRODID:eventora.com
BEGIN:VEVENT
UID:07ece347-c11c-4c22-9cb0-e90ff118f6e3
DTSTAMP:20260424T123911Z
STATUS:CONFIRMED
DTSTART;TZID=GTB Standard Time:20181114T160000Z
DTEND;TZID=GTB Standard Time:20181114T180000Z
SUMMARY:Χρήση και Ασφάλεια ενός λογαριασμού στα Social Media (Veria)
LOCATION:Δημόσια Κεντρική Βιβλιοθήκη Βέροιας - Έλλης 8 - 591 32 Βέροια - Ημαθ
DESCRIPTION: 
BEGIN:VALARM
DESCRIPTION:Χρήση και Ασφάλεια ενός λογαριασμού στα Social Media (Veria)
TRIGGER:-PT15M
ACTION:DISPLAY
END:VALARM
TRANSP:OPAQUE
END:VEVENT
END:VCALENDAR
