BEGIN:VCALENDAR
VERSION:2.0
PRODID:eventora.com
BEGIN:VEVENT
UID:348da530-c691-478e-ae17-2f257b37a05f
DTSTAMP:20260424T155314Z
STATUS:CONFIRMED
DTSTART;TZID=GTB Standard Time:20181010T130000Z
DTEND;TZID=GTB Standard Time:20181010T170000Z
SUMMARY:PHP for Beginners. An Introduction to Modern Programming with PHP (Veria)
LOCATION:Δημόσια Κεντρική Βιβλιοθήκη Βέροιας - Έλλης 8 - 591 32 Βέροια - Ημαθ
DESCRIPTION: 
BEGIN:VALARM
DESCRIPTION:PHP for Beginners. An Introduction to Modern Programming with PHP (Veria)
TRIGGER:-PT15M
ACTION:DISPLAY
END:VALARM
TRANSP:OPAQUE
END:VEVENT
END:VCALENDAR
