BEGIN:VCALENDAR
VERSION:2.0
PRODID:eventora.com
BEGIN:VEVENT
UID:6d5b0c2a-17e6-4e26-a5fb-0f73025a84ef
DTSTAMP:20260424T062623Z
STATUS:CONFIRMED
DTSTART;TZID=GTB Standard Time:20220521T080000Z
DTEND;TZID=GTB Standard Time:20220521T103000Z
SUMMARY:Αθηναϊκές Διαδρομές | Α' Κοιμητήριο Αθηνών. Υπαίθρια γλυπτοθήκη
LOCATION:Α΄ Κοιμητήριο Δήμου Αθηναίων - Λογγίνου 3 - 116 36 Αθήνα - Κεντρικός
DESCRIPTION: 
BEGIN:VALARM
DESCRIPTION:Αθηναϊκές Διαδρομές | Α' Κοιμητήριο Αθηνών. Υπαίθρια γλυπτοθήκη
TRIGGER:-PT15M
ACTION:DISPLAY
END:VALARM
TRANSP:OPAQUE
END:VEVENT
END:VCALENDAR
