BEGIN:VCALENDAR
VERSION:2.0
PRODID:eventora.com
BEGIN:VEVENT
UID:16b96348-d6eb-4301-a068-23825562f347
DTSTAMP:20260422T045814Z
STATUS:CONFIRMED
DTSTART;TZID=GTB Standard Time:20190221T140000Z
DTEND;TZID=GTB Standard Time:20190221T180000Z
SUMMARY:Εναρκτήρια εκδήλωση του προγράμματος Active Citizens Fund για την Ελλάδα
LOCATION:Σεράφειο δήμου Αθηναίων - Πειραιώς 160 - 118 54 Αθήνα - Κεντρικός Το
DESCRIPTION: 
BEGIN:VALARM
DESCRIPTION:Εναρκτήρια εκδήλωση του προγράμματος Active Citizens Fund για την Ελλάδα
TRIGGER:-PT15M
ACTION:DISPLAY
END:VALARM
TRANSP:OPAQUE
END:VEVENT
END:VCALENDAR
