BEGIN:VCALENDAR
VERSION:2.0
PRODID:eventora.com
BEGIN:VEVENT
UID:8ba756e7-8ea1-4d4a-bd6c-e57dedeecc72
DTSTAMP:20260420T042140Z
STATUS:CONFIRMED
DTSTART;TZID=GTB Standard Time:20241008T080000Z
DTEND;TZID=GTB Standard Time:20241008T170000Z
SUMMARY:Advanced Telecoms & IoT Summit 2024
LOCATION:Ζάππειο Μέγαρο - Λεωφόρος Βασιλίσσης Όλγας  - 105 57 Αθήνα - Κεντρικ
DESCRIPTION: 
BEGIN:VALARM
DESCRIPTION:Advanced Telecoms & IoT Summit 2024
TRIGGER:-PT15M
ACTION:DISPLAY
END:VALARM
TRANSP:OPAQUE
END:VEVENT
END:VCALENDAR
