BEGIN:VCALENDAR
VERSION:2.0
PRODID:eventora.com
BEGIN:VEVENT
UID:ea5fe0ed-ca5a-4afa-8eec-a6c06951c3c2
DTSTAMP:20260424T154437Z
STATUS:CONFIRMED
DTSTART;TZID=GTB Standard Time:20250928T100000Z
DTEND;TZID=GTB Standard Time:20250928T140000Z
SUMMARY:BBQ στο Αγρόκτημα της Αμερικανικής Γεωργικής Σχολής Θεσσαλονίκης
LOCATION:Αμερικανική Γεωργική Σχολή Θεσσαλονίκης - Μαρίνου Αντύπα 54 - 570 0
DESCRIPTION: 
BEGIN:VALARM
DESCRIPTION:BBQ στο Αγρόκτημα της Αμερικανικής Γεωργικής Σχολής Θεσσαλονίκης
TRIGGER:-PT15M
ACTION:DISPLAY
END:VALARM
TRANSP:OPAQUE
END:VEVENT
END:VCALENDAR
