BEGIN:VCALENDAR
VERSION:2.0
PRODID:eventora.com
BEGIN:VEVENT
UID:b858eb5f-f010-44ed-a088-ca10d715b6c8
DTSTAMP:20260423T072022Z
STATUS:CONFIRMED
DTSTART;TZID=GTB Standard Time:20230902T170000Z
DTEND;TZID=GTB Standard Time:20230902T180000Z
SUMMARY:Από τη Στάνη στο Πιάτο: Τα Κρέατα των Ροβιών
LOCATION:Κεντρική Πλατεία Ροβιών -   - 340 05 Rovies - Evia - Greece
DESCRIPTION: 
BEGIN:VALARM
DESCRIPTION:Από τη Στάνη στο Πιάτο: Τα Κρέατα των Ροβιών
TRIGGER:-PT15M
ACTION:DISPLAY
END:VALARM
TRANSP:OPAQUE
END:VEVENT
END:VCALENDAR
