BEGIN:VCALENDAR
VERSION:2.0
PRODID:eventora.com
BEGIN:VEVENT
UID:ec07c8f1-3eb4-4e23-a7f9-990a989e0aeb
DTSTAMP:20260422T142415Z
STATUS:CONFIRMED
DTSTART;TZID=GTB Standard Time:20250602T080000Z
DTEND;TZID=GTB Standard Time:20250603T160000Z
SUMMARY:Brain, Retain- Regain | InFORUM
LOCATION:Πρώην Δημόσιο Καπνεργοστάσιο - Λένορμαν 218 - 10443 Αθήνα - Κεντρικό
DESCRIPTION: 
BEGIN:VALARM
DESCRIPTION:Brain, Retain- Regain | InFORUM
TRIGGER:-PT15M
ACTION:DISPLAY
END:VALARM
TRANSP:OPAQUE
END:VEVENT
END:VCALENDAR
