BEGIN:VCALENDAR
VERSION:2.0
PRODID:eventora.com
BEGIN:VEVENT
UID:67c85bc2-130d-4c9e-9f9d-b25d3fcd4475
DTSTAMP:20260422T203808Z
STATUS:CONFIRMED
DTSTART;TZID=GTB Standard Time:20171125T070000Z
DTEND;TZID=GTB Standard Time:20171126T200000Z
SUMMARY:Crowdhackathon #insurance2
LOCATION:INNOVATHENS - Πειραιώς 100 - 118 54 Αθήνα - Αττικής - Ελλάδα
DESCRIPTION: 
BEGIN:VALARM
DESCRIPTION:Crowdhackathon #insurance2
TRIGGER:-PT15M
ACTION:DISPLAY
END:VALARM
TRANSP:OPAQUE
END:VEVENT
END:VCALENDAR
