BEGIN:VCALENDAR
VERSION:2.0
PRODID:eventora.com
BEGIN:VEVENT
UID:cf5ca02b-8f9b-463c-a210-1b0ffedd8503
DTSTAMP:20260421T101857Z
STATUS:CONFIRMED
DTSTART;TZID=GTB Standard Time:20170512T090000Z
DTEND;TZID=GTB Standard Time:20170514T180000Z
SUMMARY:crowdhackathon #smartcity
LOCATION:«Θέατρον» - Κέντρο Πολιτισμού «Ελληνικός Κόσμος» - Πειραιώς 254 - 17
DESCRIPTION: 
BEGIN:VALARM
DESCRIPTION:crowdhackathon #smartcity
TRIGGER:-PT15M
ACTION:DISPLAY
END:VALARM
TRANSP:OPAQUE
END:VEVENT
END:VCALENDAR
