BEGIN:VCALENDAR
VERSION:2.0
PRODID:eventora.com
BEGIN:VEVENT
UID:a71e559a-84b2-44b7-b7ee-9b6c683672d6
DTSTAMP:20260423T065350Z
STATUS:CONFIRMED
DTSTART;TZID=GTB Standard Time:20230902T080000Z
DTEND;TZID=GTB Standard Time:20230902T093000Z
SUMMARY:Κουζίνα της Φτώχειας: Η Τσουκνιδόπιτα των Ροβιών
LOCATION:Anemoia Evia -   - 340 05 Rovies - Evia - Greece
DESCRIPTION: 
BEGIN:VALARM
DESCRIPTION:Κουζίνα της Φτώχειας: Η Τσουκνιδόπιτα των Ροβιών
TRIGGER:-PT15M
ACTION:DISPLAY
END:VALARM
TRANSP:OPAQUE
END:VEVENT
END:VCALENDAR
