BEGIN:VCALENDAR
VERSION:2.0
PRODID:eventora.com
BEGIN:VEVENT
UID:901360a8-8e94-47d2-b7ef-9fca5d6c6db5
DTSTAMP:20260423T005454Z
STATUS:CONFIRMED
DTSTART;TZID=GTB Standard Time:20170915T170000Z
DTEND;TZID=GTB Standard Time:20170917T170000Z
SUMMARY:Cyclehack Athens
LOCATION:Πολυκλείτου 21 - 6ος όροφος - Πολυκλείτου 21 - 105 51 Αθήνα - Κεντρι
DESCRIPTION: 
BEGIN:VALARM
DESCRIPTION:Cyclehack Athens
TRIGGER:-PT15M
ACTION:DISPLAY
END:VALARM
TRANSP:OPAQUE
END:VEVENT
END:VCALENDAR
