BEGIN:VCALENDAR
VERSION:2.0
PRODID:eventora.com
BEGIN:VEVENT
UID:69a68a45-696a-4884-be74-51157220d5ea
DTSTAMP:20260425T000658Z
STATUS:CONFIRMED
DTSTART;TZID=GTB Standard Time:20150619T160000Z
DTEND;TZID=GTB Standard Time:20150621T170000Z
SUMMARY:Cyclehack Athens
LOCATION:Στοά Εμπόρων -   - 105 62 Athina - Attica - Greece
DESCRIPTION: 
BEGIN:VALARM
DESCRIPTION:Cyclehack Athens
TRIGGER:-PT15M
ACTION:DISPLAY
END:VALARM
TRANSP:OPAQUE
END:VEVENT
END:VCALENDAR
