BEGIN:VCALENDAR
VERSION:2.0
PRODID:eventora.com
BEGIN:VEVENT
UID:cc1666f6-1fb2-4c60-98eb-abe76eabda73
DTSTAMP:20260422T125112Z
STATUS:CONFIRMED
DTSTART;TZID=GTB Standard Time:20190625T060000Z
DTEND;TZID=GTB Standard Time:20190625T140000Z
SUMMARY:4th Data Privacy & Protection Conference 2019
LOCATION:Αμφιθέατρο Maroussi Plaza - Φραγκοκκλησιάς 3α και Γρανικού - 151 25
DESCRIPTION: 
BEGIN:VALARM
DESCRIPTION:4th Data Privacy & Protection Conference 2019
TRIGGER:-PT15M
ACTION:DISPLAY
END:VALARM
TRANSP:OPAQUE
END:VEVENT
END:VCALENDAR
