BEGIN:VCALENDAR
VERSION:2.0
PRODID:eventora.com
BEGIN:VEVENT
UID:7a29b7d8-c23a-4f47-8f76-367e106a8f53
DTSTAMP:20260420T232235Z
STATUS:CONFIRMED
DTSTART;TZID=GTB Standard Time:20141003T153000Z
DTEND;TZID=GTB Standard Time:20141005T183000Z
SUMMARY:Designathon, 2014 "We did this"
LOCATION:FOUND.ATION - Ευρυσθέως 2 & Πειραιώς 123 - 118 54 Αθήνα - Κάτω Πετρά
DESCRIPTION: 
BEGIN:VALARM
DESCRIPTION:Designathon, 2014 "We did this"
TRIGGER:-PT15M
ACTION:DISPLAY
END:VALARM
TRANSP:OPAQUE
END:VEVENT
END:VCALENDAR
