BEGIN:VCALENDAR
VERSION:2.0
PRODID:eventora.com
BEGIN:VEVENT
UID:b09a0257-cad6-45d8-9764-a8ba8d78b21a
DTSTAMP:20260420T024702Z
STATUS:CONFIRMED
DTSTART;TZID=GTB Standard Time:20191101T100000Z
DTEND;TZID=GTB Standard Time:20191101T120000Z
SUMMARY:Digital CV - Οδηγίες και Συμβουλές
LOCATION:Λέλα Καραγιάννη - Λέλας Καραγιάννη 1 - 112 52 Αθήνα - Κεντρικός Τομέ
DESCRIPTION: 
BEGIN:VALARM
DESCRIPTION:Digital CV - Οδηγίες και Συμβουλές
TRIGGER:-PT15M
ACTION:DISPLAY
END:VALARM
TRANSP:OPAQUE
END:VEVENT
END:VCALENDAR
