BEGIN:VCALENDAR
VERSION:2.0
PRODID:eventora.com
BEGIN:VEVENT
UID:98f6e7f1-b8f5-411e-928c-5757c66bb9db
DTSTAMP:20260420T020251Z
STATUS:CONFIRMED
DTSTART;TZID=GTB Standard Time:20200330T090000Z
DTEND;TZID=GTB Standard Time:20200331T150000Z
SUMMARY:Δημιουργική Αρτοποιία  - Θεσσαλονίκη
LOCATION:ΙΕΚ ΔΕΛΤΑ 360° Θεσσαλονίκης - Ερμού 45 - 546 24 Θεσσαλονίκη - Θεσσαλ
DESCRIPTION: 
BEGIN:VALARM
DESCRIPTION:Δημιουργική Αρτοποιία  - Θεσσαλονίκη
TRIGGER:-PT15M
ACTION:DISPLAY
END:VALARM
TRANSP:OPAQUE
END:VEVENT
END:VCALENDAR
