BEGIN:VCALENDAR
VERSION:2.0
PRODID:eventora.com
BEGIN:VEVENT
UID:60221100-64bf-48ff-97d9-933eb5b5e9c6
DTSTAMP:20260423T234155Z
STATUS:CONFIRMED
DTSTART;TZID=GTB Standard Time:20191203T100000Z
DTEND;TZID=GTB Standard Time:20191204T160000Z
SUMMARY:Δημιουργική Αρτοποιία - Ρόδος
LOCATION:ΑΝΚΟ Academy Ρόδου - Γεωργίου Σεφέρη 78 - 80  - Ιαλυσός - Ελλάδα
DESCRIPTION: 
BEGIN:VALARM
DESCRIPTION:Δημιουργική Αρτοποιία - Ρόδος
TRIGGER:-PT15M
ACTION:DISPLAY
END:VALARM
TRANSP:OPAQUE
END:VEVENT
END:VCALENDAR
