BEGIN:VCALENDAR
VERSION:2.0
PRODID:eventora.com
BEGIN:VEVENT
UID:282efd90-f58d-4dcf-b36e-c3d670e875cc
DTSTAMP:20260421T030601Z
STATUS:CONFIRMED
DTSTART;TZID=GTB Standard Time:20250330T080000Z
DTEND;TZID=GTB Standard Time:20250330T110000Z
SUMMARY:Discover Pierce Day, East Campus
LOCATION:Pierce College | East Campus - Ζήνωνος  - 190 04 Σπάτα - Περιφερειακ
DESCRIPTION: 
BEGIN:VALARM
DESCRIPTION:Discover Pierce Day, East Campus
TRIGGER:-PT15M
ACTION:DISPLAY
END:VALARM
TRANSP:OPAQUE
END:VEVENT
END:VCALENDAR
