BEGIN:VCALENDAR
VERSION:2.0
PRODID:eventora.com
BEGIN:VEVENT
UID:e5eb5ae1-d30c-43e0-88b3-88fd3ca674a5
DTSTAMP:20260424T222517Z
STATUS:CONFIRMED
DTSTART;TZID=GTB Standard Time:20200714T110000Z
DTEND;TZID=GTB Standard Time:20200714T130000Z
SUMMARY:Doing Business with Africa
LOCATION:
DESCRIPTION: 
BEGIN:VALARM
DESCRIPTION:Doing Business with Africa
TRIGGER:-PT15M
ACTION:DISPLAY
END:VALARM
TRANSP:OPAQUE
END:VEVENT
END:VCALENDAR
