BEGIN:VCALENDAR
VERSION:2.0
PRODID:eventora.com
BEGIN:VEVENT
UID:6b197c13-85d6-41ef-bb79-7d2762aef4a0
DTSTAMP:20260422T101705Z
STATUS:CONFIRMED
DTSTART;TZID=GTB Standard Time:20190619T100000Z
DTEND;TZID=GTB Standard Time:20190620T180000Z
SUMMARY:e κύκλος - Η ΕΛΛΑΔΑ ΜΕΤΑ ΙΙΙ: Η ΑΝΑΣΥΣΤΑΣΗ ΤΗΣ ΜΕΣΑΙΑΣ ΤΑΞΗΣ
LOCATION:Divani Caravel Hotel - Λεωφόρος Βασιλέως Αλεξάνδρου 2 - 161 21 Αθήν
DESCRIPTION: 
BEGIN:VALARM
DESCRIPTION:e κύκλος - Η ΕΛΛΑΔΑ ΜΕΤΑ ΙΙΙ: Η ΑΝΑΣΥΣΤΑΣΗ ΤΗΣ ΜΕΣΑΙΑΣ ΤΑΞΗΣ
TRIGGER:-PT15M
ACTION:DISPLAY
END:VALARM
TRANSP:OPAQUE
END:VEVENT
END:VCALENDAR
