BEGIN:VCALENDAR
VERSION:2.0
PRODID:eventora.com
BEGIN:VEVENT
UID:06f62776-04af-475e-b973-5de06578ab17
DTSTAMP:20260420T093709Z
STATUS:CONFIRMED
DTSTART;TZID=GTB Standard Time:20200921T120000Z
DTEND;TZID=GTB Standard Time:20200923T170000Z
SUMMARY:Κύκλος ιδεών- Η ΕΛΛΑΔΑ ΜΕΤΑ ΙV
LOCATION:Athens -   -  Athens - Attica - Greece
DESCRIPTION: 
BEGIN:VALARM
DESCRIPTION:Κύκλος ιδεών- Η ΕΛΛΑΔΑ ΜΕΤΑ ΙV
TRIGGER:-PT15M
ACTION:DISPLAY
END:VALARM
TRANSP:OPAQUE
END:VEVENT
END:VCALENDAR
