BEGIN:VCALENDAR
VERSION:2.0
PRODID:eventora.com
BEGIN:VEVENT
UID:847000c3-3a74-44ad-bbf5-3ccbf3e82f0d
DTSTAMP:20260419T162200Z
STATUS:CONFIRMED
DTSTART;TZID=GTB Standard Time:20250318T140000Z
DTEND;TZID=GTB Standard Time:20250318T153000Z
SUMMARY:Ασφαλίζοντας ΤΟ ΜΕΛΛΟΝ | Βιωσιμότητα & Ανθεκτικότητα
LOCATION:Αμφιθέατρο Ιωάννης Δεσποτόπουλος - Ωδείο Αθηνών - Ρηγίλλης & Βασιλέ
DESCRIPTION: 
BEGIN:VALARM
DESCRIPTION:Ασφαλίζοντας ΤΟ ΜΕΛΛΟΝ | Βιωσιμότητα & Ανθεκτικότητα
TRIGGER:-PT15M
ACTION:DISPLAY
END:VALARM
TRANSP:OPAQUE
END:VEVENT
END:VCALENDAR
