BEGIN:VCALENDAR
VERSION:2.0
PRODID:eventora.com
BEGIN:VEVENT
UID:818866be-6d76-489a-b334-9ea74fef79e8
DTSTAMP:20260419T150444Z
STATUS:CONFIRMED
DTSTART;TZID=GTB Standard Time:20260306T100000Z
DTEND;TZID=GTB Standard Time:20260306T120000Z
SUMMARY:BEYOND RISK | Η Ασφάλιση μοχλός σταθερότητας & Ανάπτυξης
LOCATION:Ξενοδοχείο Μεγάλη Βρεταννία - Βασιλέως Γεωργίου Α' 1 - Πλατεία Συντ
DESCRIPTION: 
BEGIN:VALARM
DESCRIPTION:BEYOND RISK | Η Ασφάλιση μοχλός σταθερότητας & Ανάπτυξης
TRIGGER:-PT15M
ACTION:DISPLAY
END:VALARM
TRANSP:OPAQUE
END:VEVENT
END:VCALENDAR
